BEGIN:VCALENDAR
VERSION:2.0
PRODID:-//Montse Castellà - ECPv6.9.0//NONSGML v1.0//EN
CALSCALE:GREGORIAN
METHOD:PUBLISH
X-WR-CALNAME:Montse Castellà
X-ORIGINAL-URL:https://www.montsecastella.cat
X-WR-CALDESC:Esdeveniments per Montse Castellà
REFRESH-INTERVAL;VALUE=DURATION:PT1H
X-Robots-Tag:noindex
X-PUBLISHED-TTL:PT1H
BEGIN:VTIMEZONE
TZID:Europe/Helsinki
BEGIN:DAYLIGHT
TZOFFSETFROM:+0200
TZOFFSETTO:+0300
TZNAME:EEST
DTSTART:20260329T010000
END:DAYLIGHT
BEGIN:STANDARD
TZOFFSETFROM:+0300
TZOFFSETTO:+0200
TZNAME:EET
DTSTART:20261025T010000
END:STANDARD
END:VTIMEZONE
BEGIN:VEVENT
DTSTART;TZID=Europe/Helsinki:20260425T210000
DTEND;TZID=Europe/Helsinki:20260425T230000
DTSTAMP:20260422T234930
CREATED:20260408T180006Z
LAST-MODIFIED:20260408T180159Z
UID:2842-1777150800-1777158000@www.montsecastella.cat
SUMMARY:TORTOSA (Baix Ebre)
DESCRIPTION:Homenatge a Gerard Vergés / Record a Zoraida Burgos \nInterpretació de 5 peces en lo marc del sopar literari. Música\, poesia i gastronomia. \nLloc: Forn de la Canonja\, a les 21h. Menú tancat: 32€ \nInscripció prèvia omplint este formulari
URL:https://www.montsecastella.cat/event/tortosa-baix-ebre/
CATEGORIES:Col·laboració
END:VEVENT
END:VCALENDAR