BEGIN:VCALENDAR
VERSION:2.0
PRODID:-//Montse Castellà - ECPv6.9.0//NONSGML v1.0//EN
CALSCALE:GREGORIAN
METHOD:PUBLISH
X-WR-CALNAME:Montse Castellà
X-ORIGINAL-URL:https://www.montsecastella.cat
X-WR-CALDESC:Esdeveniments per Montse Castellà
REFRESH-INTERVAL;VALUE=DURATION:PT1H
X-Robots-Tag:noindex
X-PUBLISHED-TTL:PT1H
BEGIN:VTIMEZONE
TZID:Europe/Helsinki
BEGIN:DAYLIGHT
TZOFFSETFROM:+0200
TZOFFSETTO:+0300
TZNAME:EEST
DTSTART:20260329T010000
END:DAYLIGHT
BEGIN:STANDARD
TZOFFSETFROM:+0300
TZOFFSETTO:+0200
TZNAME:EET
DTSTART:20261025T010000
END:STANDARD
END:VTIMEZONE
BEGIN:VEVENT
DTSTART;TZID=Europe/Helsinki:20260522T190000
DTEND;TZID=Europe/Helsinki:20260522T193000
DTSTAMP:20260424T115818
CREATED:20260326T101757Z
LAST-MODIFIED:20260326T102006Z
UID:2751-1779476400-1779478200@www.montsecastella.cat
SUMMARY:TORTOSA - Festival Toca'm
DESCRIPTION:Presentació de l’espectacle original ‘Ponts de fil’\, elaborat expressament per al Festival Toca’m. \nUn viatge musical per la vida i obra de Zoraida Burgos Matheu\, amb Josep Lanau ‘Mitxum’ al piano.
URL:https://www.montsecastella.cat/event/tortosa-festival-tocam/
LOCATION:Jardins del Princep\, https://share.google/Es1XfhP3i8XxSPQH6
CATEGORIES:Concert
END:VEVENT
END:VCALENDAR